BEGIN:VCALENDAR
VERSION:2.0
PRODID:-//Pramuka Banjarnegara - ECPv6.10.0//NONSGML v1.0//EN
CALSCALE:GREGORIAN
METHOD:PUBLISH
X-WR-CALNAME:Pramuka Banjarnegara
X-ORIGINAL-URL:https://pramukabanjarnegara.or.id
X-WR-CALDESC:Events for Pramuka Banjarnegara
REFRESH-INTERVAL;VALUE=DURATION:PT1H
X-Robots-Tag:noindex
X-PUBLISHED-TTL:PT1H
BEGIN:VTIMEZONE
TZID:UTC
BEGIN:STANDARD
TZOFFSETFROM:+0000
TZOFFSETTO:+0000
TZNAME:UTC
DTSTART:20230101T000000
END:STANDARD
TZID:Asia/Jakarta
BEGIN:STANDARD
TZOFFSETFROM:+0700
TZOFFSETTO:+0700
TZNAME:WIB
DTSTART:20230101T000000
END:STANDARD
END:VTIMEZONE
BEGIN:VEVENT
DTSTART;TZID=UTC:20250508T080000
DTEND;TZID=UTC:20250512T170000
DTSTAMP:20260422T221116
CREATED:20250319T162934Z
LAST-MODIFIED:20250319T163017Z
UID:2149-1746691200-1747069200@pramukabanjarnegara.or.id
SUMMARY:Coming Soon Gladi Tangguh Ubaloka XII Tahun 2025 Tahap 2
DESCRIPTION:
URL:https://pramukabanjarnegara.or.id/agend/coming-soon-gladi-tangguh-ubaloka-xii-tahun-2025-tahap-1/
END:VEVENT
BEGIN:VEVENT
DTSTART;TZID=UTC:20250429T080000
DTEND;TZID=UTC:20250503T170000
DTSTAMP:20260422T221116
CREATED:20250319T163125Z
LAST-MODIFIED:20250319T163125Z
UID:2152-1745913600-1746291600@pramukabanjarnegara.or.id
SUMMARY:Coming Soon Gladi Tangguh Ubaloka XII Tahun 2025 Tahap 1
DESCRIPTION:
URL:https://pramukabanjarnegara.or.id/agend/coming-soon-gladi-tangguh-ubaloka-xii-tahun-2025-tahap-1-2/
END:VEVENT
BEGIN:VEVENT
DTSTART;TZID=UTC:20250426T080000
DTEND;TZID=UTC:20250426T170000
DTSTAMP:20260422T221116
CREATED:20250319T162749Z
LAST-MODIFIED:20250319T162749Z
UID:2147-1745654400-1745686800@pramukabanjarnegara.or.id
SUMMARY:Pesta Siaga Kwartir Cabang Banjarnegara
DESCRIPTION:
URL:https://pramukabanjarnegara.or.id/agend/pesta-siaga-kwartir-cabang-banjarnegara/
END:VEVENT
BEGIN:VEVENT
DTSTART;TZID=UTC:20241214T080000
DTEND;TZID=UTC:20241217T170000
DTSTAMP:20260422T221116
CREATED:20241103T151327Z
LAST-MODIFIED:20241103T151437Z
UID:1905-1734163200-1734454800@pramukabanjarnegara.or.id
SUMMARY:Jambore Cabang VIII SD/MI Kwartir Cabang Banjarnegara Tahun 2024
DESCRIPTION:
URL:https://pramukabanjarnegara.or.id/agend/jambore-cabang-viii-sd-mi-kwartir-cabang-banjarnegara-tahun-2024/
END:VEVENT
BEGIN:VEVENT
DTSTART;VALUE=DATE:20240719
DTEND;VALUE=DATE:20240721
DTSTAMP:20260422T221116
CREATED:20240226T053314Z
LAST-MODIFIED:20240226T053314Z
UID:1445-1721347200-1721519999@pramukabanjarnegara.or.id
SUMMARY:Lomba Pramuka Garuda Berprestasi Golongan Penggalang & Penegak Tingkat Cabang 2024
DESCRIPTION:
URL:https://pramukabanjarnegara.or.id/agend/lomba-pramuka-garuda-berprestasi-golongan-penggalang-penegak-tingkat-cabang-2024/
LOCATION:Sanggar Pramuka Kwartir Cabang Banjarnegara
END:VEVENT
BEGIN:VEVENT
DTSTART;TZID=UTC:20240509T080000
DTEND;TZID=UTC:20240602T170000
DTSTAMP:20260422T221116
CREATED:20240407T025510Z
LAST-MODIFIED:20240407T031600Z
UID:1613-1715241600-1717347600@pramukabanjarnegara.or.id
SUMMARY:Gladi Tangguh Ubaloka XI Tahun 2024
DESCRIPTION:Coming Soon on May 2024
URL:https://pramukabanjarnegara.or.id/agend/gladi-tangguh-ubaloka-xi-tahun-2024/
LOCATION:Sanggar Pramuka Kwartir Cabang Banjarnegara
END:VEVENT
BEGIN:VEVENT
DTSTART;VALUE=DATE:20240504
DTEND;VALUE=DATE:20240505
DTSTAMP:20260422T221116
CREATED:20240226T053507Z
LAST-MODIFIED:20240226T101132Z
UID:1449-1714780800-1714867199@pramukabanjarnegara.or.id
SUMMARY:Pesta Siaga Tingkat Cabang Banjarnegara Tahun 2024
DESCRIPTION:
URL:https://pramukabanjarnegara.or.id/agend/pesta-siaga-tingkat-cabang-banjarnegara-tahun-2024/
LOCATION:Karangkobar
END:VEVENT
BEGIN:VEVENT
DTSTART;VALUE=DATE:20240419
DTEND;VALUE=DATE:20240422
DTSTAMP:20260422T221116
CREATED:20240226T053402Z
LAST-MODIFIED:20240226T053402Z
UID:1447-1713484800-1713743999@pramukabanjarnegara.or.id
SUMMARY:Seleksi Calon Peserta Jambore Daerah XVI Kontingen Banjarnegara 2024
DESCRIPTION:
URL:https://pramukabanjarnegara.or.id/agend/seleksi-calon-peserta-jambore-daerah-xvi-kontingen-banjarnegara-2024/
END:VEVENT
BEGIN:VEVENT
DTSTART;VALUE=DATE:20240301
DTEND;VALUE=DATE:20240303
DTSTAMP:20260422T221116
CREATED:20240226T053158Z
LAST-MODIFIED:20240226T053158Z
UID:1442-1709251200-1709423999@pramukabanjarnegara.or.id
SUMMARY:Lomba Pramuka Garuda Berprestasi Golongan Siaga Tingkat Cabang 2024
DESCRIPTION:
URL:https://pramukabanjarnegara.or.id/agend/lomba-pramuka-garuda-berprestasi-golongan-siaga-tingkat-cabang-2024/
LOCATION:Sanggar Pramuka Kwartir Cabang Banjarnegara
END:VEVENT
BEGIN:VEVENT
DTSTART;TZID=UTC:20230318T080000
DTEND;TZID=UTC:20230319T130000
DTSTAMP:20260422T221116
CREATED:20230205T202427Z
LAST-MODIFIED:20230209T144701Z
UID:269-1679126400-1679230800@pramukabanjarnegara.or.id
SUMMARY:Pesta Siaga Kwartir Cabang Banjarnegara
DESCRIPTION:
URL:https://pramukabanjarnegara.or.id/agend/kmd-kwarcab-gunungkidul-3/
END:VEVENT
BEGIN:VEVENT
DTSTART;TZID=Asia/Jakarta:20230303T140000
DTEND;TZID=Asia/Jakarta:20230303T160000
DTSTAMP:20260422T221116
CREATED:20230216T164842Z
LAST-MODIFIED:20230223T022518Z
UID:1061-1677852000-1677859200@pramukabanjarnegara.or.id
SUMMARY:Rapat Koordinasi Daring Dewan Kerja\, Satuan Karya Pramuka\, Ambalan dan Racana (Zoom)
DESCRIPTION:
URL:https://pramukabanjarnegara.or.id/agend/temu-daring-dewan-kerja-ranting-dewan-saka-dewan-ambalan-zoom/
LOCATION:Zoom Meeting\, Indonesia
END:VEVENT
BEGIN:VEVENT
DTSTART;TZID=UTC:20230216T080000
DTEND;TZID=UTC:20230219T130000
DTSTAMP:20260422T221116
CREATED:20230211T073022Z
LAST-MODIFIED:20230211T073022Z
UID:990-1676534400-1676811600@pramukabanjarnegara.or.id
SUMMARY:Gladi Tangguh Ubaloka X
DESCRIPTION:
URL:https://pramukabanjarnegara.or.id/agend/gladi-tangguh-ubaloka-x/
END:VEVENT
END:VCALENDAR